BEGIN:VCALENDAR
VERSION:2.0
PRODID:-//Purangi Kiwi - ECPv4.6.7//NONSGML v1.0//EN
CALSCALE:GREGORIAN
METHOD:PUBLISH
X-WR-CALNAME:Purangi Kiwi
X-ORIGINAL-URL:http://www.purangikiwi.co.nz
X-WR-CALDESC:Events for Purangi Kiwi
BEGIN:VEVENT
DTSTART;TZID=Pacific/Auckland:20190101T090000
DTEND;TZID=Pacific/Auckland:20190131T170000
DTSTAMP:20181221T194347
CREATED:20181220T200029Z
LAST-MODIFIED:20181219T023422Z
UID:3510-1546333200-1548954000@www.purangikiwi.co.nz
SUMMARY:Get Snapping and be in to Win a *Special Kiwi Release Experience*!
DESCRIPTION:FOR FULL DETAILS AND TERMS AND CONDITIONS CLICK HERE \nFor directions to our Project walkways click here \n \n  \n  \n  \n  \n
URL:http://www.purangikiwi.co.nz/event/get-snapping-win-special-kiwi-release-experience/
LOCATION:Aukawa Road\, Matau\, Taranaki\, New Zealand
ATTACH;FMTTYPE=image/jpeg:http://www.purangikiwi.co.nz/wp-content/uploads/2018/12/kiwi-release-experience-picture.jpg
END:VEVENT
END:VCALENDAR